BEGIN:VCALENDAR
VERSION:2.0
PRODID:-//Călătoria spre Tine - ECPv6.15.20//NONSGML v1.0//EN
CALSCALE:GREGORIAN
METHOD:PUBLISH
X-ORIGINAL-URL:https://calatoriaspretine.ro/wp
X-WR-CALDESC:Evenimente pentru Călătoria spre Tine
REFRESH-INTERVAL;VALUE=DURATION:PT1H
X-Robots-Tag:noindex
X-PUBLISHED-TTL:PT1H
BEGIN:VTIMEZONE
TZID:Europe/Bucharest
BEGIN:DAYLIGHT
TZOFFSETFROM:+0200
TZOFFSETTO:+0300
TZNAME:EEST
DTSTART:20240331T010000
END:DAYLIGHT
BEGIN:STANDARD
TZOFFSETFROM:+0300
TZOFFSETTO:+0200
TZNAME:EET
DTSTART:20241027T010000
END:STANDARD
BEGIN:DAYLIGHT
TZOFFSETFROM:+0200
TZOFFSETTO:+0300
TZNAME:EEST
DTSTART:20250330T010000
END:DAYLIGHT
BEGIN:STANDARD
TZOFFSETFROM:+0300
TZOFFSETTO:+0200
TZNAME:EET
DTSTART:20251026T010000
END:STANDARD
BEGIN:DAYLIGHT
TZOFFSETFROM:+0200
TZOFFSETTO:+0300
TZNAME:EEST
DTSTART:20260329T010000
END:DAYLIGHT
BEGIN:STANDARD
TZOFFSETFROM:+0300
TZOFFSETTO:+0200
TZNAME:EET
DTSTART:20261025T010000
END:STANDARD
END:VTIMEZONE
BEGIN:VEVENT
DTSTART;TZID=Europe/Bucharest:20251121T190000
DTEND;TZID=Europe/Bucharest:20251121T210000
DTSTAMP:20260425T150502
CREATED:20251121T084320Z
LAST-MODIFIED:20251121T092557Z
UID:6813-1763751600-1763758800@calatoriaspretine.ro
SUMMARY:Prezentare 'despre Modern Mystery School' urmată de meditație - Max Meditation System - la Târgu Jiu
DESCRIPTION:Vom prezenta Modern Mystery School:\n– ce este Calea Vindecătorului\n– ce este Calea Războinicului\n– mai este ceva între acestea?\n– cum este inițiatul protejat\, susținut și ghidat?\n– cu ce mă ajută cunoașterea și modalitățile MMS în viața reală\, la sarcinile cotidiene? \nPrezintă Paul Gabor Iliescu\, terapeut\, Life Activation Practitioner\, Teacher & Guide\, RM3 în Lineajul Regelui Solomon și MMS. \nDonația este de 100 de lei.\nLocația: Târgu Jiu\nVineri\, 21 noiembrie 2025\, ora 19 \nPentru înscrieri / confirmarea participării va rog contactați-ne\, SMS sau WA\, la\n0730-188898 sau mail la\nthe.spiritual.training@gmail.com. \nPartajează asta:\n				Partajează pe Facebook(Se deschide într-o fereastră nouă)\n				Facebook\n			\n				Partajează pe LinkedIn(Se deschide într-o fereastră nouă)\n				LinkedIn\n			\n				Partajează pe Pinterest(Se deschide într-o fereastră nouă)\n				Pinterest\n			Mai mult\n				Imprimare(Se deschide într-o fereastră nouă)\n				Imprimare\n			\n				Partajează prin WhatsApp(Se deschide într-o fereastră nouă)\n				WhatsApp\n			\n				Partajează pe X(Se deschide într-o fereastră nouă)\n				X\n			\n				Partajează pe Telegram(Se deschide într-o fereastră nouă)\n				Telegram\n			Apreciază:Apreciază Încarc...
URL:https://calatoriaspretine.ro/wp/event/prezentare-despre-modern-mystery-school-urmata-de-meditatie-max-meditation-system-la-targu-jiu/
LOCATION:Gradinița Teddi\, Aleea Unirii\, nr 2A\, Târgu Jiu\, Gorj\, Romania
CATEGORIES:Meditații,Prezentări
ATTACH;FMTTYPE=image/jpeg:https://calatoriaspretine.ro/wp/wp-content/uploads/2025/11/what-is-a-mystery-school.jpeg
ORGANIZER;CN="Paul Gabor Iliescu":MAILTO:paul.gabor.ro@gmail.com
END:VEVENT
END:VCALENDAR