BEGIN:VCALENDAR
VERSION:2.0
PRODID:-//Călătoria spre Tine - ECPv6.15.20//NONSGML v1.0//EN
CALSCALE:GREGORIAN
METHOD:PUBLISH
X-ORIGINAL-URL:https://calatoriaspretine.ro/wp
X-WR-CALDESC:Evenimente pentru Călătoria spre Tine
REFRESH-INTERVAL;VALUE=DURATION:PT1H
X-Robots-Tag:noindex
X-PUBLISHED-TTL:PT1H
BEGIN:VTIMEZONE
TZID:Europe/Moscow
BEGIN:STANDARD
TZOFFSETFROM:+0300
TZOFFSETTO:+0300
TZNAME:MSK
DTSTART:20250101T000000
END:STANDARD
END:VTIMEZONE
BEGIN:VEVENT
DTSTART;TZID=Europe/Moscow:20260203T190000
DTEND;TZID=Europe/Moscow:20260203T220000
DTSTAMP:20260424T224704
CREATED:20260127T000947Z
LAST-MODIFIED:20260127T000947Z
UID:6945-1770145200-1770156000@calatoriaspretine.ro
SUMMARY:Geometrie Sacră 1; Protecție a spațiilor; Conectare cu 3 Chei ale Universului & aplicate în proiecte; Cele 4 Lumi
DESCRIPTION:Crește-ți puterea! \nUneori ești lipsit de energie și putere?\nUneori ești copleșit/-ă de gânduri și stări care simți că nu sunt ale tale?\nIntri în încăperi și te simți apăsat/-ă?\nSimți că acasă sau la serviciu este ceva care poate fi schimbat în energia încăperilor?\nVrei să te protejezi pe tine și pe ai tăi? \nEi bine\, este posibil și la îndemână.\nTrebuie să știi doar cum. \nCursul de Geometrie Sacră 1 te învăță aceste lucruri\, ba chiar și mai multe\, cum ar fi te conectezi\, să asociezi și să folosești Geometria Sacră în etapele oricărui proiect\, activând fiecare pas\, spre maximizarea eficienței fiecăruia.\nTot aici vom vorbi despre aplicarea ‘Celor 4 Lumi’ din Kabbalah în proiectele tale.\nPicătura de Magie adăugată de curs face diferența! \nCursul durează trei ore și îți va schimba viața! \nAcest curs este important și necesar\, condiție pentru cei care vor urma cursuri și stagii mai avansate în cadrul Modern Mystery School – Școala Modernă a Misterelor. \nCursul este susținut de Paul Gabor Iliescu\, Teacher\, Healer și Guide în Modern Mystery School.\nMarți\, 3 februarie 2026\, ora 19 – 22 în București (Voluntari) \nCerințe preliminare: Nici unul – oricine poate participa!\nCost: 147 EUR \nEste necesară înregistrarea în avans.\nVă rugăm să trimiteți un e-mail calatoria@calatoriaspretine.ro sau mesaj sau WA la +4.077.1111.889 pentru a vă înregistra sau pentru mai multe informații! \nOrganizarea acestui eveniment / șir de evenimente este făcută de Roxana – Ioana Gabor – Iliescu și Paul Gabor – Iliescu sub egida Călătoria Spre Tine\, MAI Academy și The Spiritual Training.. \nPartajează asta:\n				Partajează pe Facebook(Se deschide într-o fereastră nouă)\n				Facebook\n			\n				Partajează pe LinkedIn(Se deschide într-o fereastră nouă)\n				LinkedIn\n			\n				Partajează pe Pinterest(Se deschide într-o fereastră nouă)\n				Pinterest\n			Mai mult\n				Imprimare(Se deschide într-o fereastră nouă)\n				Imprimare\n			\n				Partajează prin WhatsApp(Se deschide într-o fereastră nouă)\n				WhatsApp\n			\n				Partajează pe X(Se deschide într-o fereastră nouă)\n				X\n			\n				Partajează pe Telegram(Se deschide într-o fereastră nouă)\n				Telegram\n			Apreciază:Apreciază Încarc...
URL:https://calatoriaspretine.ro/wp/event/geometrie-sacra-1-protectie-a-spatiilor-conectare-cu-3-chei-ale-universului-aplicate-in-proiecte-4-lumi-bucuresti-3-februarie-2026/
LOCATION:Centrul ‘Ascending Spirit’ București – Voluntari\, Strada Iancu Nicolae 71C\, Voluntari\, Ilfov\, 077191\, România
CATEGORIES:Cursuri,Modern Mystery School,Spiritualitate în Business,The Spiritual Training
ATTACH;FMTTYPE=image/jpeg:https://calatoriaspretine.ro/wp/wp-content/uploads/2023/06/324398387_521040543455087_5951987009114642144_n.jpg
ORGANIZER;CN="Paul Gabor Iliescu":MAILTO:paul.gabor.ro@gmail.com
END:VEVENT
END:VCALENDAR